BEGIN:VCALENDAR
VERSION:2.0
PRODID:spatie/icalendar-generator
DESCRIPTION:Events from Mountain View Montessori School
X-WR-CALDESC:Events from Mountain View Montessori School
REFRESH-INTERVAL;VALUE=DURATION:PT1440M
X-PUBLISHED-TTL:PT1440M
BEGIN:VTIMEZONE
TZID:Etc/GMT+0
BEGIN:STANDARD
DTSTART:20240825T193000Z
TZOFFSETFROM:+0000
TZOFFSETTO:+0000
END:STANDARD
END:VTIMEZONE
BEGIN:VTIMEZONE
TZID:UTC
BEGIN:STANDARD
DTSTART:20250724T090738Z
TZOFFSETFROM:+0000
TZOFFSETTO:+0000
END:STANDARD
END:VTIMEZONE
BEGIN:VEVENT
UID:1-1
DTSTAMP:20260420T090738Z
SUMMARY:Demo: Florence Price: Symphony No. 3 in c minor
LOCATION:
ORGANIZER;CN=maintenance@junction-creative.com:MAILTO:maintenance@junction-
 creative.com
DTSTART;TZID=Etc/GMT+0:20250522T193000
DTEND;TZID=Etc/GMT+0:20250522T210000
X-ALT-DESC;FMTTYPE=TEXT/HTML:<p>Florence Price's Symphony No.3 was first pe
 rformed on November 6th\, 1940. It was Ms. Price's third symphony\, follow
 ing her lost Symphony No. 2</p>\n
CATEGORIES:General
URL;VALUE=URI:https://mvmabq.com/mc-events/demo-florence-price-symphony-no-
 3-in-c-minor/
METHOD:PUBLISH
END:VEVENT
END:VCALENDAR