BEGIN:VCALENDAR
VERSION:2.0
PRODID:spatie/icalendar-generator
DESCRIPTION:Events from Mountain View Montessori School
X-WR-CALDESC:Events from Mountain View Montessori School
REFRESH-INTERVAL;VALUE=DURATION:PT1440M
X-PUBLISHED-TTL:PT1440M
BEGIN:VTIMEZONE
TZID:Etc/GMT+0
BEGIN:STANDARD
DTSTART:20240817T000000Z
TZOFFSETFROM:+0000
TZOFFSETTO:+0000
END:STANDARD
END:VTIMEZONE
BEGIN:VTIMEZONE
TZID:UTC
BEGIN:STANDARD
DTSTART:20250726T095119Z
TZOFFSETFROM:+0000
TZOFFSETTO:+0000
END:STANDARD
END:VTIMEZONE
BEGIN:VEVENT
UID:2-2
DTSTAMP:20260422T095119Z
SUMMARY:Event Example
LOCATION:
ORGANIZER;CN=maintenance@junction-creative.com:MAILTO:maintenance@junction-
 creative.com
DTSTART;TZID=Etc/GMT+0;VALUE=DATE:20250514
DTEND;TZID=Etc/GMT+0;VALUE=DATE:20250522
X-ALT-DESC;FMTTYPE=TEXT/HTML:
CATEGORIES:General
URL;VALUE=URI:https://mvmabq.com/mc-events/event-example/
METHOD:PUBLISH
END:VEVENT
END:VCALENDAR